View In:
ArcGIS JavaScript
ArcGIS Online Map Viewer
ArcGIS Earth
ArcMap
View Footprint In:
ArcGIS Online Map Viewer
Service Description: 2018 Imagery rendered dynamically from Data
Name: Basemaps/2018_Imagery_Dynamic
Description: 2018 Imagery rendered dynamically from Data
Single Fused Map Cache: false
Extent:
XMin: 2155000.000001292
YMin: 1182500.569553378
XMax: 2232499.5987241394
YMax: 1292499.9999987094
Spatial Reference: 0
(0)
LatestVCSWkid(0)
Initial Extent:
XMin: 2155000.000001292
YMin: 1182500.569553378
XMax: 2232499.5987241394
YMax: 1292499.9999987094
Spatial Reference: 0
(0)
LatestVCSWkid(0)
Full Extent:
XMin: 2155000.000001292
YMin: 1182500.569553378
XMax: 2232499.5987241394
YMax: 1292499.9999987094
Spatial Reference: 0
(0)
LatestVCSWkid(0)
Pixel Size X: 0.49999741111514306
Pixel Size Y: 0.4999974111151426
Band Count: 4
Pixel Type: U8
RasterFunction Infos: {"rasterFunctionInfos": [{
"name": "None",
"description": "",
"help": ""
}]}
Mensuration Capabilities: Basic
Has Histograms: true
Has Colormap: false
Has Multi Dimensions : false
Rendering Rule:
Min Scale: 0
Max Scale: 0
Copyright Text:
Service Data Type: esriImageServiceDataTypeGeneric
Min Values: 0, 0, 0, 0
Max Values: 233, 242, 234, 255
Mean Values: 80.892665692008, 82.131213450292, 78.492080896686, 184.7296539961
Standard Deviation Values: 53.722645288307, 53.098716044774, 50.185335704207, 112.99307750095
Object ID Field:
Fields:
None
Default Mosaic Method: Center
Allowed Mosaic Methods:
SortField:
SortValue: null
Mosaic Operator: First
Default Compression Quality: 75
Default Resampling Method: Bilinear
Max Record Count: null
Max Image Height: 4100
Max Image Width: 15000
Max Download Image Count: null
Max Mosaic Image Count: null
Allow Raster Function: true
Allow Copy: true
Allow Analysis: true
Allow Compute TiePoints: false
Supports Statistics: false
Supports Advanced Queries: false
Use StandardizedQueries: true
Raster Type Infos:
Name: Raster Dataset
Description: Supports all ArcGIS Raster Datasets
Help:
Has Raster Attribute Table: false
Edit Fields Info: null
Ownership Based AccessControl For Rasters: null
Child Resources:
Info
Histograms
Statistics
Key Properties
Legend
Raster Function Infos
Supported Operations:
Export Image
Identify
Measure
Compute Histograms
Compute Statistics Histograms
Get Samples
Compute Class Statistics
Query Boundary
Compute Pixel Location
Compute Angles
Validate
Project