{
 "currentVersion": 10.91,
 "serviceDescription": "2018 Imagery rendered dynamically from Data",
 "name": "Basemaps/2018_Imagery_Dynamic",
 "description": "2018 Imagery rendered dynamically from Data",
 "extent": {
  "xmin": 2155000.000001292,
  "ymin": 1182500.569553378,
  "xmax": 2232499.5987241394,
  "ymax": 1292499.9999987094,
  "spatialReference": {
   "wkt": "PROJCS[\"NAD_1983_Georgia_West_ftUS\",GEOGCS[\"GCS_North_American_1983\",DATUM[\"D_North_American_1983\",SPHEROID[\"GRS_1980\",6378137.0,298.257222101]],PRIMEM[\"Greenwich\",0.0],UNIT[\"Degree\",0.0174532925199433]],PROJECTION[\"Transverse_Mercator\"],PARAMETER[\"false_easting\",2296583.333],PARAMETER[\"false_northing\",0.0],PARAMETER[\"central_meridian\",-84.16666666666667],PARAMETER[\"scale_factor\",0.9999],PARAMETER[\"latitude_of_origin\",30.0],UNIT[\"Foot_US\",0.3048006096012192]]"
  }
 },
 "initialExtent": {
  "xmin": 2155000.000001292,
  "ymin": 1182500.569553378,
  "xmax": 2232499.5987241394,
  "ymax": 1292499.9999987094,
  "spatialReference": {
   "wkt": "PROJCS[\"NAD_1983_Georgia_West_ftUS\",GEOGCS[\"GCS_North_American_1983\",DATUM[\"D_North_American_1983\",SPHEROID[\"GRS_1980\",6378137.0,298.257222101]],PRIMEM[\"Greenwich\",0.0],UNIT[\"Degree\",0.0174532925199433]],PROJECTION[\"Transverse_Mercator\"],PARAMETER[\"false_easting\",2296583.333],PARAMETER[\"false_northing\",0.0],PARAMETER[\"central_meridian\",-84.16666666666667],PARAMETER[\"scale_factor\",0.9999],PARAMETER[\"latitude_of_origin\",30.0],UNIT[\"Foot_US\",0.3048006096012192]]"
  }
 },
 "fullExtent": {
  "xmin": 2155000.000001292,
  "ymin": 1182500.569553378,
  "xmax": 2232499.5987241394,
  "ymax": 1292499.9999987094,
  "spatialReference": {
   "wkt": "PROJCS[\"NAD_1983_Georgia_West_ftUS\",GEOGCS[\"GCS_North_American_1983\",DATUM[\"D_North_American_1983\",SPHEROID[\"GRS_1980\",6378137.0,298.257222101]],PRIMEM[\"Greenwich\",0.0],UNIT[\"Degree\",0.0174532925199433]],PROJECTION[\"Transverse_Mercator\"],PARAMETER[\"false_easting\",2296583.333],PARAMETER[\"false_northing\",0.0],PARAMETER[\"central_meridian\",-84.16666666666667],PARAMETER[\"scale_factor\",0.9999],PARAMETER[\"latitude_of_origin\",30.0],UNIT[\"Foot_US\",0.3048006096012192]]"
  }
 },
 "hasMultidimensions": false,
 "pixelSizeX": 0.49999741111514306,
 "pixelSizeY": 0.4999974111151426,
 "datasetFormat": "MrSID",
 "uncompressedSize": 136400000000,
 "blockWidth": 1024,
 "blockHeight": 128,
 "compressionType": "Wavelet (MG4)",
 "bandNames": [
  "Band_1",
  "Band_2",
  "Band_3",
  "Band_4"
 ],
 "allowCopy": true,
 "allowAnalysis": true,
 "bandCount": 4,
 "pixelType": "U8",
 "minPixelSize": 0,
 "maxPixelSize": 0,
 "copyrightText": "",
 "serviceDataType": "esriImageServiceDataTypeGeneric",
 "serviceSourceType": "esriImageServiceSourceTypeDataset",
 "minValues": [
  0,
  0,
  0,
  0
 ],
 "maxValues": [
  233,
  242,
  234,
  255
 ],
 "meanValues": [
  80.892665692008,
  82.131213450292,
  78.492080896686,
  184.7296539961
 ],
 "stdvValues": [
  53.722645288307,
  53.098716044774,
  50.185335704207,
  112.99307750095
 ],
 "objectIdField": "",
 "fields": [],
 "capabilities": "Image,Metadata,Mensuration",
 "defaultMosaicMethod": "Center",
 "allowedMosaicMethods": "",
 "sortField": "",
 "sortValue": null,
 "sortAscending": true,
 "mosaicOperator": "First",
 "defaultCompressionQuality": 75,
 "defaultResamplingMethod": "Bilinear",
 "maxImageHeight": 4100,
 "maxImageWidth": 15000,
 "allowRasterFunction": true,
 "rasterFunctionInfos": [
  {
   "name": "None",
   "description": "",
   "help": ""
  }
 ],
 "rasterTypeInfos": [
  {
   "name": "Raster Dataset",
   "description": "Supports all ArcGIS Raster Datasets",
   "help": ""
  }
 ],
 "mensurationCapabilities": "Basic",
 "hasHistograms": true,
 "hasColormap": false,
 "hasRasterAttributeTable": false,
 "minScale": 0,
 "maxScale": 0,
 "exportTilesAllowed": false,
 "supportsStatistics": false,
 "supportsAdvancedQueries": false,
 "editFieldsInfo": null,
 "ownershipBasedAccessControlForRasters": null,
 "allowComputeTiePoints": false,
 "useStandardizedQueries": true,
 "advancedQueryCapabilities": {
  "useStandardizedQueries": true,
  "supportsStatistics": false,
  "supportsOrderBy": false,
  "supportsDistinct": false,
  "supportsPagination": false
 },
 "spatialReference": {
  "wkt": "PROJCS[\"NAD_1983_Georgia_West_ftUS\",GEOGCS[\"GCS_North_American_1983\",DATUM[\"D_North_American_1983\",SPHEROID[\"GRS_1980\",6378137.0,298.257222101]],PRIMEM[\"Greenwich\",0.0],UNIT[\"Degree\",0.0174532925199433]],PROJECTION[\"Transverse_Mercator\"],PARAMETER[\"false_easting\",2296583.333],PARAMETER[\"false_northing\",0.0],PARAMETER[\"central_meridian\",-84.16666666666667],PARAMETER[\"scale_factor\",0.9999],PARAMETER[\"latitude_of_origin\",30.0],UNIT[\"Foot_US\",0.3048006096012192]]"
 }
}
